BEGIN:VCALENDAR
VERSION:2.0
PRODID:spatie/icalendar-generator
NAME:Wildlife Prairie Park Events
X-WR-CALNAME:Wildlife Prairie Park Events
BEGIN:VTIMEZONE
TZID:America/Chicago
BEGIN:STANDARD
DTSTART:20251102T010000
TZOFFSETFROM:-0500
TZOFFSETTO:-0600
END:STANDARD
BEGIN:DAYLIGHT
DTSTART:20260308T010000
TZOFFSETFROM:-0600
TZOFFSETTO:-0500
END:DAYLIGHT
END:VTIMEZONE
BEGIN:VTIMEZONE
TZID:UTC
BEGIN:STANDARD
DTSTART:20250727T153611
TZOFFSETFROM:+0000
TZOFFSETTO:+0000
END:STANDARD
END:VTIMEZONE
BEGIN:VEVENT
UID:69ea3c6b4adcf
DTSTAMP:20260423T153611Z
SUMMARY:Winter Wellness Hikes
DESCRIPTION:Hike through the Park with a member of the Recreation Staff. Le
 arn a little about Park history\, while mainly focusing on hiking for fitn
 ess and reaching step goals. Hikes will be finished in time for Winter Wel
 lness Yoga at 11:15 a.m.\nToday's Hike InfoHike: Disc Golf Course\nMeeting
  Location: West Side Parking Lot Kiosk \nRating: Moderate – elevation ch
 anges\, stairs\nFREE for members\, and FREE for non-members with paid admi
 ttance.Children under 18 must be accompanied by an adult.The hike may be c
 anceled in case of storms or unsafe travel conditions. Registrants will be
  notified via email of cancellations or changes.  Registration required. S
 ign UpTips from the Pros: Winter hikes can be a blast if you dress appropr
 iately. Dress for success with sturdy boots—snow boots for icy condition
 s or hiking boots after snow has melted (avoid tennis or running shoes). W
 arm gloves and hats are a must. A scarf or balaclava is recommended to cov
 er your face and warm the air you breath in. Wear moisture-wicking layers 
 for extra warmth. \n
LOCATION:Wildlife Prairie Park - 3826 N. Taylor Road\, Hanna City\, IL 6153
 6
URL:https://sales.wildlifeprairiepark.org/Performance.aspx?pid=13571&cal=ht
 tps%3a%2f%2fsales.wildlifeprairiepark.org%3a443%2fcalendar.aspx
IMAGE;VALUE=URI:https://wildlifeprairiepark.org/storage/148/01JG2JYSA8GX7HZ
 BPFFMCWEYJZ.jpg
DTSTART;TZID=America/Chicago:20260117T100000
DTEND;TZID=America/Chicago:20260117T110000
END:VEVENT
END:VCALENDAR