BEGIN:VCALENDAR
VERSION:2.0
PRODID:spatie/icalendar-generator
NAME:Wildlife Prairie Park Events
X-WR-CALNAME:Wildlife Prairie Park Events
BEGIN:VTIMEZONE
TZID:America/Chicago
BEGIN:DAYLIGHT
DTSTART:20250309T010000
TZOFFSETFROM:-0600
TZOFFSETTO:-0500
END:DAYLIGHT
BEGIN:STANDARD
DTSTART:20251102T010000
TZOFFSETFROM:-0500
TZOFFSETTO:-0600
END:STANDARD
END:VTIMEZONE
BEGIN:VTIMEZONE
TZID:UTC
BEGIN:STANDARD
DTSTART:20250724T141320
TZOFFSETFROM:+0000
TZOFFSETTO:+0000
END:STANDARD
END:VTIMEZONE
BEGIN:VEVENT
UID:69e6348062426
DTSTAMP:20260420T141320Z
SUMMARY:Wild Nights
DESCRIPTION:Presented by Porter Electric Solar DivisionThe Park will be ope
 n until 8:30 p.m. every Friday in June\, July\, August\, and September!Com
 e see what happens at night at Wildlife Prairie Park! Hike the animal trai
 ls and ride on the Prairie Zephyr Train until 8 p.m. plus listen to live m
 usic during our Wildfire Concerts (dates listed below)! New programs durin
 g Wild Nights this year include Night Hikes\, Junior Naturalist\, and Crit
 ters and Cocktails.\nWild Nights admission starts at 5:30 p.m.\nWPP Member
 s receive FREE Park Admission. Non-Member Admission: $7\nAll Day Train Tic
 kets are $7 per person.\nAugust 15th FoodThe Best Brew Adventure Café\nWi
 ldfire Concerts - 6 to 9 p.m.Grab your friends and bring your lawn chairs 
 to experience a concert in the great outdoors! Keeper Chat with a Wildlife
  Prairie Park Animal Ambassador during intermission. Food and Drinks avail
 able for purchase. No outside alcohol allowed on Park premises.\nAugust 8 
 | Deuces WildAugust 15 | February SkyAugust 22 | Wolf and Gypsy BandSeptem
 ber 5 | Dan HubbardSeptember 26 | KasinoJR Naturalist Classes - 6 p.m.Join
  us for a nature themed educational program for children ages 7 to 12 year
 s old to experience and appreciate wildlife. Free for WPP members. $5 plus
  park admission for non-members. Registration Required.\nAugust 1 | Name t
 hat TreeAugust 15 | Mammal Tracking September 5 | HerpetologySeptember 19 
 | Invasive Species Spotlight Night Hikes - 9 p.m.Experience the Park at ni
 ght! Look and learn about local wildlife\, meditate or hear ghost stories 
 - every hike you will learn something different! Registration Required. Fr
 ee with admission. WPP Members receive from admission. \nAugust 1 | Animal
  Trails After Dark August 15 | OwlingSeptember 5 | \"Haunted\" Hike Septem
 ber 19 at 8 p.m. | Astronomical Tour with the Peoria Astronomical SocietyC
 ritters and Cocktails - 5 to 7 p.m.A wild mixology experience! Craft uniqu
 e cocktails inspired by WPP animals plus behind-the-scenes encounters with
  those animals! Registration Required. \nAugust 22 | WolfSeptember 26 | Re
 ptile
LOCATION:Wildlife Prairie Park - 3826 N. Taylor Road\, Hanna City\, IL 6153
 6
IMAGE;VALUE=URI:https://wildlifeprairiepark.org/storage/260/01JWBCR7K098SF0
 XZN1Q4QZHTK.jpg
DTSTART;TZID=America/Chicago:20250815T173000
DTEND;TZID=America/Chicago:20250815T203000
END:VEVENT
END:VCALENDAR