BEGIN:VCALENDAR
VERSION:2.0
PRODID:spatie/icalendar-generator
NAME:Wildlife Prairie Park Events
X-WR-CALNAME:Wildlife Prairie Park Events
BEGIN:VTIMEZONE
TZID:America/Chicago
BEGIN:DAYLIGHT
DTSTART:20250309T010000
TZOFFSETFROM:-0600
TZOFFSETTO:-0500
END:DAYLIGHT
BEGIN:STANDARD
DTSTART:20251102T010000
TZOFFSETFROM:-0500
TZOFFSETTO:-0600
END:STANDARD
END:VTIMEZONE
BEGIN:VTIMEZONE
TZID:UTC
BEGIN:STANDARD
DTSTART:20250724T154827
TZOFFSETFROM:+0000
TZOFFSETTO:+0000
END:STANDARD
END:VTIMEZONE
BEGIN:VEVENT
UID:69e64acbc5a1a
DTSTAMP:20260420T154827Z
SUMMARY:Night Hikes
DESCRIPTION:Night Hikes at Wild Nights are presented by Porter Electric Sol
 ar DivisionJoin us for an adventure of a nighttime and experience the Park
  at night! Look and learn about local wildlife\, meditate or hear ghost st
 ories - every hike you will learn something different! For many hikes you 
 will get to use red light flashlights while searching for wildlife to prot
 ect nocturnal species from light pollution and cause less disruption of th
 eir natural behaviors. \nGo hike on the Animal Trails After Dark with a Wi
 ldlife Prairie Park Animal Care Specialist.\nMeeting Location: Visitor Cen
 terFREE for members\, and FREE for non-members with paid admission. Park a
 dmission during Wild Nights is $7/person.Children under 18 must be accompa
 nied by an adult.Registration required. Sign Up2025 Night Hike ScheduleJun
 e 6 | Guided Tree MeditationJune 20 | Animal Trails After Dark July 18 | G
 uided Tree MeditationAugust 1 | Animal Trails After Dark August 15 | Owlin
 gSeptember 5 | \"Haunted\" Hike September 19 at 8 p.m. | Astronomical Tour
  with the Peoria Astronomical Society \n
LOCATION:Wildlife Prairie Park - 3826 N. Taylor Road\, Hanna City\, IL 6153
 6
URL:https://sales.wildlifeprairiepark.org/Performance.aspx?pid=12084&cal=ht
 tps%3a%2f%2fsales.wildlifeprairiepark.org%3a443%2fcalendar.aspx
IMAGE;VALUE=URI:https://wildlifeprairiepark.org/storage/330/01JXFMR2R680VCY
 HG5XHCYZAVG.jpg
DTSTART;TZID=America/Chicago:20250801T210000
DTEND;TZID=America/Chicago:20250801T220000
END:VEVENT
END:VCALENDAR