BEGIN:VCALENDAR
VERSION:2.0
PRODID:spatie/icalendar-generator
NAME:Wildlife Prairie Park Events
X-WR-CALNAME:Wildlife Prairie Park Events
BEGIN:VTIMEZONE
TZID:America/Chicago
BEGIN:DAYLIGHT
DTSTART:20250309T010000
TZOFFSETFROM:-0600
TZOFFSETTO:-0500
END:DAYLIGHT
BEGIN:STANDARD
DTSTART:20251102T010000
TZOFFSETFROM:-0500
TZOFFSETTO:-0600
END:STANDARD
BEGIN:DAYLIGHT
DTSTART:20260308T010000
TZOFFSETFROM:-0600
TZOFFSETTO:-0500
END:DAYLIGHT
END:VTIMEZONE
BEGIN:VTIMEZONE
TZID:UTC
BEGIN:STANDARD
DTSTART:20250724T154811
TZOFFSETFROM:+0000
TZOFFSETTO:+0000
END:STANDARD
END:VTIMEZONE
BEGIN:VEVENT
UID:69e64abbde8e9
DTSTAMP:20260420T154811Z
SUMMARY:JR Naturalist
DESCRIPTION:JR Naturalist Program at Wild Nights are presented by Porter El
 ectric Solar DivisionJoin us for a nature themed educational program for c
 hildren ages 7 to 12 years old to experience and appreciate wildlife.\nIn 
 Herpetology\, learn how to identify some local herps (frog calls\, snakes\
 , turtles). Then\, go on a hike to the turtle pond to see what we can hear
  and see! \nMeeting Location: Forest HallFREE for Member Child\; $5 for No
 n-Member ChildAdult Chaperone required & FREE for the classWPP Members rec
 eive FREE park admission. Regular park admission fee still applies for Non
 -Members. During Wild Nights\, park admission is $7/person.Reservations Re
 quired. Purchase Tickets Online2025 JR Naturalist ScheduleJune 6 | Introdu
 ction to Birdwatching June 20 | Bison as a Keystone Species July 18 | Inse
 ct BingoAugust 1 | Name that TreeAugust 15 | Mammal Tracking September 5 |
  HerpetologySeptember 19 | Invasive Species Spotlight 
LOCATION:Wildlife Prairie Park - 3826 N. Taylor Road\, Hanna City\, IL 6153
 6
URL:https://sales.wildlifeprairiepark.org/Performance.aspx?pid=12079&cal=ht
 tps%3a%2f%2fsales.wildlifeprairiepark.org%3a443%2fcalendar.aspx
IMAGE;VALUE=URI:https://wildlifeprairiepark.org/storage/321/01JXAPKVVWB8E81
 GM2G9V0VVND.jpg
DTSTART;TZID=America/Chicago:20250905T180000
DTEND;TZID=America/Chicago:20250905T190000
END:VEVENT
END:VCALENDAR