BEGIN:VCALENDAR
VERSION:2.0
PRODID:spatie/icalendar-generator
NAME:Wildlife Prairie Park Events
X-WR-CALNAME:Wildlife Prairie Park Events
BEGIN:VTIMEZONE
TZID:America/Chicago
BEGIN:DAYLIGHT
DTSTART:20250309T010000
TZOFFSETFROM:-0600
TZOFFSETTO:-0500
END:DAYLIGHT
BEGIN:STANDARD
DTSTART:20251102T010000
TZOFFSETFROM:-0500
TZOFFSETTO:-0600
END:STANDARD
END:VTIMEZONE
BEGIN:VTIMEZONE
TZID:UTC
BEGIN:STANDARD
DTSTART:20250724T155148
TZOFFSETFROM:+0000
TZOFFSETTO:+0000
END:STANDARD
END:VTIMEZONE
BEGIN:VEVENT
UID:69e64b94acd76
DTSTAMP:20260420T155148Z
SUMMARY:JR Naturalist
DESCRIPTION:JR Naturalist Program at Wild Nights are presented by Porter El
 ectric Solar DivisionJoin us for a nature themed educational program for c
 hildren ages 7 to 12 years old to experience and appreciate wildlife.\nIn 
 Name that Tree\, learn key characteristics needed to identify tree species
 . Then play Name that Tree\, which will guide you in identifying a handful
  of tree species found near Forest Hall.\nMeeting Location: Forest HallFRE
 E for Member Child\; $5 for Non-Member ChildAdult Chaperone required & FRE
 E for the classWPP Members receive FREE park admission. Regular park admis
 sion fee still applies for Non-Members. During Wild Nights\, park admissio
 n is $7/person.Reservations Required. Purchase Tickets Online2025 JR Natur
 alist ScheduleJune 6 | Introduction to Birdwatching June 20 | Bison as a K
 eystone Species July 18 | Insect BingoAugust 1 | Name that TreeAugust 15 |
  Mammal Tracking September 5 | HerpetologySeptember 19 | Invasive Species 
 Spotlight 
LOCATION:Wildlife Prairie Park - 3826 N. Taylor Road\, Hanna City\, IL 6153
 6
URL:https://sales.wildlifeprairiepark.org/Performance.aspx?pid=12077&cal=ht
 tps%3a%2f%2fsales.wildlifeprairiepark.org%3a443%2fcalendar.aspx
IMAGE;VALUE=URI:https://wildlifeprairiepark.org/storage/319/01JXAP2JWJ4EW3S
 4XET0YF5N00.jpg
DTSTART;TZID=America/Chicago:20250801T180000
DTEND;TZID=America/Chicago:20250801T190000
END:VEVENT
END:VCALENDAR