BEGIN:VCALENDAR
VERSION:2.0
PRODID:spatie/icalendar-generator
NAME:Wildlife Prairie Park Events
X-WR-CALNAME:Wildlife Prairie Park Events
BEGIN:VTIMEZONE
TZID:America/Chicago
BEGIN:STANDARD
DTSTART:20241103T010000
TZOFFSETFROM:-0500
TZOFFSETTO:-0600
END:STANDARD
BEGIN:DAYLIGHT
DTSTART:20250309T010000
TZOFFSETFROM:-0600
TZOFFSETTO:-0500
END:DAYLIGHT
END:VTIMEZONE
BEGIN:VTIMEZONE
TZID:UTC
BEGIN:STANDARD
DTSTART:20250728T165350
TZOFFSETFROM:+0000
TZOFFSETTO:+0000
END:STANDARD
END:VTIMEZONE
BEGIN:VEVENT
UID:69eba01ed12e6
DTSTAMP:20260424T165350Z
SUMMARY:Diamond of the Season Ball
DESCRIPTION:Dearest readers\, prepare yourselves for a most exquisite after
 noon\, inspired by the dazzling gatherings of Bridgerton. Step into the wo
 rld of High Society\, elegance\, and romance as we invite you to an unforg
 ettable event that promises to delight even the most discerning of hearts.
 \nJoin us at Prairie Hall for a proper etiquette lesson taught by The Roya
 l Purpose School of Etiquette\, splendid tea party and formal dinner that 
 includes Garlic and herb chicken\, au gratin potatoes\, and green bean alm
 ondine\, accompanied by era-appropriate music. After dining\, you will be 
 guided across a promenade\, leading you to Hespell Deck for an evening of 
 Regency ball room dance lessons provided by Young Dance Inc\, and a chance
  to twirl beneath the stars with the ton. For those in society who are fee
 ling a bit mystical\, you will have the chance for a private fortune telli
 ng! Be sure to dress in your regency best\, as Queen Charlotte will be sur
 e to crown a Diamond of the Season\, and the reward for this is said to be
  grand!  \n2 p.m. | Doors open for VIP Guests\n2 p.m. | VIP Photoshoot wit
 h Ollie the Barred Owl. Ends at 3pm.\n2:30 p.m. | Door open for all Guests
 \n3 p.m. | Show begins with High Tea\n3:15 p.m. | Etiquette Lessons\n4:15 
 p.m. | Promenade access open\n5 p.m. | Dance Lessons begin\n6 p.m. | Dinne
 r served\n7 p.m. | Dancing Starts\n8:30 p.m. | Crowning Diamond of the Sea
 son\n10:30 p.m. | Event end\nThe show starts at 3:00 p.m.\, and our VIP gu
 ests are encouraged to show up after 2 p.m. to get the best seating\, as w
 ell as the photo opportunities. \nThis event is designed for ages 16 years
  and older. \nTICKETS: $100\nVIP PACKAGE: $130\nFor those wishing to indul
 ge in the ultimate experience\, the Diamond of the Season Ball VIP Package
  offers the full experience that Queen Charlotte herself would indulge in.
  Your exclusive ticket includes:\n-Lace gloves\, delicate and refined\n-An
  ornate hand fan\, fit for any debutante\n-A sparkling tiara\, to present 
 yourself to High Society\n-A free 10-minute fortune-telling\, to glimpse t
 he future of your heart\n-A photograph with Ollie the Barred Owl\, in our 
 Bridgerton-themed photo booth\nStay Overnight at the Park\nReceive 20% dis
 count on lodging accommodations on April 5th\, 2025 with a Diamond of the 
 Season Ball ticket purchase. Check out our Lodging Accommodations!\nBridge
 rton-Style Outfits\n
LOCATION:Wildlife Prairie Park - 3826 N. Taylor Rd.\, Hanna City\, IL 61536
URL:https://sales.wildlifeprairiepark.org/Performance.aspx?pid=11622&cal=ht
 tps%3a%2f%2fsales.wildlifeprairiepark.org%3a443%2fcalendar.aspx
IMAGE;VALUE=URI:https://wildlifeprairiepark.org/storage/193/01JMAEBXJHQSC14
 CA4N33PRMF6.jpeg
DTSTART;TZID=America/Chicago:20250405T140000
DTEND;TZID=America/Chicago:20250405T220000
END:VEVENT
END:VCALENDAR